BEGIN:VCALENDAR
VERSION:2.0
PRODID:-//Les vitrines de venelles - ECPv6.15.11//NONSGML v1.0//EN
CALSCALE:GREGORIAN
METHOD:PUBLISH
X-WR-CALNAME:Les vitrines de venelles
X-ORIGINAL-URL:https://vitrinesvenelles.org
X-WR-CALDESC:Évènements pour Les vitrines de venelles
REFRESH-INTERVAL;VALUE=DURATION:PT1H
X-Robots-Tag:noindex
X-PUBLISHED-TTL:PT1H
BEGIN:VTIMEZONE
TZID:Europe/Paris
BEGIN:DAYLIGHT
TZOFFSETFROM:+0100
TZOFFSETTO:+0200
TZNAME:CEST
DTSTART:20240331T010000
END:DAYLIGHT
BEGIN:STANDARD
TZOFFSETFROM:+0200
TZOFFSETTO:+0100
TZNAME:CET
DTSTART:20241027T010000
END:STANDARD
BEGIN:DAYLIGHT
TZOFFSETFROM:+0100
TZOFFSETTO:+0200
TZNAME:CEST
DTSTART:20250330T010000
END:DAYLIGHT
BEGIN:STANDARD
TZOFFSETFROM:+0200
TZOFFSETTO:+0100
TZNAME:CET
DTSTART:20251026T010000
END:STANDARD
BEGIN:DAYLIGHT
TZOFFSETFROM:+0100
TZOFFSETTO:+0200
TZNAME:CEST
DTSTART:20260329T010000
END:DAYLIGHT
BEGIN:STANDARD
TZOFFSETFROM:+0200
TZOFFSETTO:+0100
TZNAME:CET
DTSTART:20261025T010000
END:STANDARD
END:VTIMEZONE
BEGIN:VEVENT
DTSTART;TZID=Europe/Paris:20251018T170000
DTEND;TZID=Europe/Paris:20251103T080000
DTSTAMP:20260421T130222
CREATED:20250430T182459Z
LAST-MODIFIED:20250430T182459Z
UID:251622-1760806800-1762156800@vitrinesvenelles.org
SUMMARY:Vacances de la Toussaint
DESCRIPTION:
URL:https://vitrinesvenelles.org/event/vacances-de-la-toussaint/
LOCATION:La Villa Coworking\, 10 rue des ecoles\, venelles\, 13770\, France
CATEGORIES:Vacances scolaires
ATTACH;FMTTYPE=image/jpeg:https://vitrinesvenelles.org/wp-content/uploads/2025/06/Flux_Dev_Un_sentier_forestier_recouvert_de_feuilles_mortes_aux_1.jpg
END:VEVENT
BEGIN:VEVENT
DTSTART;VALUE=DATE:20251101
DTEND;VALUE=DATE:20251102
DTSTAMP:20260421T130222
CREATED:20250318T210037Z
LAST-MODIFIED:20250430T181224Z
UID:251047-1761955200-1762041599@vitrinesvenelles.org
SUMMARY:Toussaint
DESCRIPTION:
URL:https://vitrinesvenelles.org/event/toussaint/
LOCATION:La Villa Coworking\, 10 rue des ecoles\, venelles\, 13770\, France
CATEGORIES:Jour férié
ATTACH;FMTTYPE=image/jpeg:https://vitrinesvenelles.org/wp-content/uploads/2025/03/Flux_Dev_A_serene_cemetery_scene_bathed_in_soft_warm_light_whe_2_dbfd6748-9fdc-47c4-92d7-c56ff0e37959.jpeg
END:VEVENT
BEGIN:VEVENT
DTSTART;VALUE=DATE:20251111
DTEND;VALUE=DATE:20251112
DTSTAMP:20260421T130222
CREATED:20250318T210101Z
LAST-MODIFIED:20250430T181515Z
UID:251049-1762819200-1762905599@vitrinesvenelles.org
SUMMARY:Armistice 1918
DESCRIPTION:
URL:https://vitrinesvenelles.org/event/armistice-1918/
LOCATION:La Villa Coworking\, 10 rue des ecoles\, venelles\, 13770\, France
CATEGORIES:Jour férié
ATTACH;FMTTYPE=image/jpeg:https://vitrinesvenelles.org/wp-content/uploads/2025/03/Flux_Dev_Un_dfil_militaire_en_hommage_aux_anciens_combattants__2_c7fa07c8-5fda-414a-96a1-3c68bb697d0a.jpeg
END:VEVENT
END:VCALENDAR