BEGIN:VCALENDAR
VERSION:2.0
PRODID:-//Les vitrines de venelles - ECPv6.15.11//NONSGML v1.0//EN
CALSCALE:GREGORIAN
METHOD:PUBLISH
X-ORIGINAL-URL:https://vitrinesvenelles.org
X-WR-CALDESC:Évènements pour Les vitrines de venelles
REFRESH-INTERVAL;VALUE=DURATION:PT1H
X-Robots-Tag:noindex
X-PUBLISHED-TTL:PT1H
BEGIN:VTIMEZONE
TZID:Europe/Paris
BEGIN:DAYLIGHT
TZOFFSETFROM:+0100
TZOFFSETTO:+0200
TZNAME:CEST
DTSTART:20240331T010000
END:DAYLIGHT
BEGIN:STANDARD
TZOFFSETFROM:+0200
TZOFFSETTO:+0100
TZNAME:CET
DTSTART:20241027T010000
END:STANDARD
BEGIN:DAYLIGHT
TZOFFSETFROM:+0100
TZOFFSETTO:+0200
TZNAME:CEST
DTSTART:20250330T010000
END:DAYLIGHT
BEGIN:STANDARD
TZOFFSETFROM:+0200
TZOFFSETTO:+0100
TZNAME:CET
DTSTART:20251026T010000
END:STANDARD
BEGIN:DAYLIGHT
TZOFFSETFROM:+0100
TZOFFSETTO:+0200
TZNAME:CEST
DTSTART:20260329T010000
END:DAYLIGHT
BEGIN:STANDARD
TZOFFSETFROM:+0200
TZOFFSETTO:+0100
TZNAME:CET
DTSTART:20261025T010000
END:STANDARD
END:VTIMEZONE
BEGIN:VEVENT
DTSTART;TZID=Europe/Paris:20250705T170000
DTEND;TZID=Europe/Paris:20250901T090000
DTSTAMP:20260421T160614
CREATED:20250430T182240Z
LAST-MODIFIED:20250430T182240Z
UID:251620-1751734800-1756717200@vitrinesvenelles.org
SUMMARY:Vacances d'été
DESCRIPTION:
URL:https://vitrinesvenelles.org/event/vacances-dete/
LOCATION:La Villa Coworking\, 10 rue des ecoles\, venelles\, 13770\, France
CATEGORIES:Vacances scolaires
ATTACH;FMTTYPE=image/jpeg:https://vitrinesvenelles.org/wp-content/uploads/2025/06/Flux_Dev_Une_scne_estivale_raliste_en_bord_de_mer_plage_de_sab_0.jpg
END:VEVENT
BEGIN:VEVENT
DTSTART;TZID=Europe/Paris:20250919T183000
DTEND;TZID=Europe/Paris:20250919T223000
DTSTAMP:20260421T160614
CREATED:20250912T060649Z
LAST-MODIFIED:20250912T060649Z
UID:252577-1758306600-1758321000@vitrinesvenelles.org
SUMMARY:SOIREE DE RENTREE
DESCRIPTION:L’association vous donne rendez-vous pour une soirée conviviale de rentrée placée sous le signe du partage et de la bonne humeur en partenariat avec la BNP Paribas.\nAu programme :\n– Présentation de 2 véhicules électriques avec explication détaillée sur le crédit bail.– Menu aux saveurs estivales avec de délicieuses pâtes aux gambas servies à table par notre célèbre Alain\, boissons et desserts inclus.\nUn moment d’échange entre professionnels pour bien démarrer cette nouvelle rentrée\, faire le plein d’énergie et débrieffer ensemble sur les événements passés et à venir.\nVenez nombreux pour fêter cette rentrée ensemble dans le cadre chaleureux et familial de la Villa !
URL:https://vitrinesvenelles.org/event/soiree-de-rentree/
LOCATION:La Villa Coworking\, 10 rue des ecoles\, venelles\, 13770\, France
ATTACH;FMTTYPE=image/jpeg:https://vitrinesvenelles.org/wp-content/uploads/2025/03/VILLA-1.jpg
END:VEVENT
END:VCALENDAR