BEGIN:VCALENDAR
VERSION:2.0
PRODID:-//Les vitrines de venelles - ECPv6.15.11//NONSGML v1.0//EN
CALSCALE:GREGORIAN
METHOD:PUBLISH
X-WR-CALNAME:Les vitrines de venelles
X-ORIGINAL-URL:https://vitrinesvenelles.org
X-WR-CALDESC:Évènements pour Les vitrines de venelles
REFRESH-INTERVAL;VALUE=DURATION:PT1H
X-Robots-Tag:noindex
X-PUBLISHED-TTL:PT1H
BEGIN:VTIMEZONE
TZID:Europe/Paris
BEGIN:DAYLIGHT
TZOFFSETFROM:+0100
TZOFFSETTO:+0200
TZNAME:CEST
DTSTART:20240331T010000
END:DAYLIGHT
BEGIN:STANDARD
TZOFFSETFROM:+0200
TZOFFSETTO:+0100
TZNAME:CET
DTSTART:20241027T010000
END:STANDARD
BEGIN:DAYLIGHT
TZOFFSETFROM:+0100
TZOFFSETTO:+0200
TZNAME:CEST
DTSTART:20250330T010000
END:DAYLIGHT
BEGIN:STANDARD
TZOFFSETFROM:+0200
TZOFFSETTO:+0100
TZNAME:CET
DTSTART:20251026T010000
END:STANDARD
BEGIN:DAYLIGHT
TZOFFSETFROM:+0100
TZOFFSETTO:+0200
TZNAME:CEST
DTSTART:20260329T010000
END:DAYLIGHT
BEGIN:STANDARD
TZOFFSETFROM:+0200
TZOFFSETTO:+0100
TZNAME:CET
DTSTART:20261025T010000
END:STANDARD
END:VTIMEZONE
BEGIN:VEVENT
DTSTART;TZID=Europe/Paris:20250527T190000
DTEND;TZID=Europe/Paris:20250527T230000
DTSTAMP:20260421T222235
CREATED:20250430T174950Z
LAST-MODIFIED:20250430T180522Z
UID:251607-1748372400-1748386800@vitrinesvenelles.org
SUMMARY:2emes Rencontres éco
DESCRIPTION:
URL:https://vitrinesvenelles.org/event/2emes-rencontres-eco/
LOCATION:L’Étincelle\, 50 avenue de la grande begude\, venelles\, 13770\, France
CATEGORIES:évènement
ATTACH;FMTTYPE=image/jpeg:https://vitrinesvenelles.org/wp-content/uploads/2025/04/Capture-decran-2025-04-30-a-19.40.06.jpg
END:VEVENT
END:VCALENDAR