BEGIN:VCALENDAR
VERSION:2.0
PRODID:-//Les vitrines de venelles - ECPv6.15.11//NONSGML v1.0//EN
CALSCALE:GREGORIAN
METHOD:PUBLISH
X-WR-CALNAME:Les vitrines de venelles
X-ORIGINAL-URL:https://vitrinesvenelles.org
X-WR-CALDESC:Évènements pour Les vitrines de venelles
REFRESH-INTERVAL;VALUE=DURATION:PT1H
X-Robots-Tag:noindex
X-PUBLISHED-TTL:PT1H
BEGIN:VTIMEZONE
TZID:Europe/Paris
BEGIN:DAYLIGHT
TZOFFSETFROM:+0100
TZOFFSETTO:+0200
TZNAME:CEST
DTSTART:20240331T010000
END:DAYLIGHT
BEGIN:STANDARD
TZOFFSETFROM:+0200
TZOFFSETTO:+0100
TZNAME:CET
DTSTART:20241027T010000
END:STANDARD
BEGIN:DAYLIGHT
TZOFFSETFROM:+0100
TZOFFSETTO:+0200
TZNAME:CEST
DTSTART:20250330T010000
END:DAYLIGHT
BEGIN:STANDARD
TZOFFSETFROM:+0200
TZOFFSETTO:+0100
TZNAME:CET
DTSTART:20251026T010000
END:STANDARD
BEGIN:DAYLIGHT
TZOFFSETFROM:+0100
TZOFFSETTO:+0200
TZNAME:CEST
DTSTART:20260329T010000
END:DAYLIGHT
BEGIN:STANDARD
TZOFFSETFROM:+0200
TZOFFSETTO:+0100
TZNAME:CET
DTSTART:20261025T010000
END:STANDARD
END:VTIMEZONE
BEGIN:VEVENT
DTSTART;TZID=Europe/Paris:20250525T080000
DTEND;TZID=Europe/Paris:20250525T170000
DTSTAMP:20260421T235719
CREATED:20250424T081849Z
LAST-MODIFIED:20250424T081935Z
UID:251566-1748160000-1748192400@vitrinesvenelles.org
SUMMARY:28 e Foulée Venelloise
DESCRIPTION:25/04/2025
URL:https://vitrinesvenelles.org/event/28-e-foulee-venelloise/
LOCATION:Parc des sports Maurice DAUGÉ\, Parc des sports Maurice DAUGÉ\, VENELLES\, 13770\, France
CATEGORIES:Actualités
ATTACH;FMTTYPE=image/jpeg:https://vitrinesvenelles.org/wp-content/uploads/2025/04/flyer-SPEEDY-25-BAT-15x21-300ppp.jpg
END:VEVENT
END:VCALENDAR