BEGIN:VCALENDAR
VERSION:2.0
PRODID:-//Les vitrines de venelles - ECPv6.15.11//NONSGML v1.0//EN
CALSCALE:GREGORIAN
METHOD:PUBLISH
X-WR-CALNAME:Les vitrines de venelles
X-ORIGINAL-URL:https://vitrinesvenelles.org
X-WR-CALDESC:Évènements pour Les vitrines de venelles
REFRESH-INTERVAL;VALUE=DURATION:PT1H
X-Robots-Tag:noindex
X-PUBLISHED-TTL:PT1H
BEGIN:VTIMEZONE
TZID:Europe/Paris
BEGIN:DAYLIGHT
TZOFFSETFROM:+0100
TZOFFSETTO:+0200
TZNAME:CEST
DTSTART:20240331T010000
END:DAYLIGHT
BEGIN:STANDARD
TZOFFSETFROM:+0200
TZOFFSETTO:+0100
TZNAME:CET
DTSTART:20241027T010000
END:STANDARD
BEGIN:DAYLIGHT
TZOFFSETFROM:+0100
TZOFFSETTO:+0200
TZNAME:CEST
DTSTART:20250330T010000
END:DAYLIGHT
BEGIN:STANDARD
TZOFFSETFROM:+0200
TZOFFSETTO:+0100
TZNAME:CET
DTSTART:20251026T010000
END:STANDARD
BEGIN:DAYLIGHT
TZOFFSETFROM:+0100
TZOFFSETTO:+0200
TZNAME:CEST
DTSTART:20260329T010000
END:DAYLIGHT
BEGIN:STANDARD
TZOFFSETFROM:+0200
TZOFFSETTO:+0100
TZNAME:CET
DTSTART:20261025T010000
END:STANDARD
END:VTIMEZONE
BEGIN:VEVENT
DTSTART;TZID=Europe/Paris:20250517T173000
DTEND;TZID=Europe/Paris:20250517T233000
DTSTAMP:20260421T235701
CREATED:20250308T232154Z
LAST-MODIFIED:20250318T204551Z
UID:250552-1747503000-1747524600@vitrinesvenelles.org
SUMMARY:LE MARCHE DES COMMERCANTS
DESCRIPTION:Le 17/05/2025\n\nLe 2ème édition du marché des commerçants à Venelles se déroulera les 17 et 18 mai prochain !\nUn événement incontournable pour tous\, avec une multitude de nouvelles animations :– Close-up de magie– Taureau mécanique (pour les grands ;-))– Structure gonflable double et gourmandise pour les petits– Groupes de musique et DJ sur les 2 jours– Animations et ateliers autour de la danse (salsa et tahitienne)– Photobooth…et d’autres belles surprises tout au long du week-end.\n\nDe nombreux stands vous proposeront de découvrir leur univers et leur produits grâce à de belles animations et dégustations.\nSafe the Date ! L’occasion idéale de passer un bon moment en famille et entre amis. Les enfants auront leur lot de réjouissances et les adultes pourront profiter des nombreux stands de commerçants accompagnés d’une impressionnante offre de restaurations\, cavistes et brasserie de qualité.\n\nVoir moins
URL:https://vitrinesvenelles.org/event/250552/
LOCATION:Parc des sports Maurice DAUGÉ\, Parc des sports Maurice DAUGÉ\, VENELLES\, 13770\, France
CATEGORIES:évènement
ATTACH;FMTTYPE=image/jpeg:https://vitrinesvenelles.org/wp-content/uploads/2025/03/481962173_1053881536775315_9013529159036315214_n.jpg
END:VEVENT
END:VCALENDAR