BEGIN:VCALENDAR
VERSION:2.0
PRODID:-//Les vitrines de venelles - ECPv6.15.11//NONSGML v1.0//EN
CALSCALE:GREGORIAN
METHOD:PUBLISH
X-ORIGINAL-URL:https://vitrinesvenelles.org
X-WR-CALDESC:Évènements pour Les vitrines de venelles
REFRESH-INTERVAL;VALUE=DURATION:PT1H
X-Robots-Tag:noindex
X-PUBLISHED-TTL:PT1H
BEGIN:VTIMEZONE
TZID:Europe/Paris
BEGIN:DAYLIGHT
TZOFFSETFROM:+0100
TZOFFSETTO:+0200
TZNAME:CEST
DTSTART:20240331T010000
END:DAYLIGHT
BEGIN:STANDARD
TZOFFSETFROM:+0200
TZOFFSETTO:+0100
TZNAME:CET
DTSTART:20241027T010000
END:STANDARD
BEGIN:DAYLIGHT
TZOFFSETFROM:+0100
TZOFFSETTO:+0200
TZNAME:CEST
DTSTART:20250330T010000
END:DAYLIGHT
BEGIN:STANDARD
TZOFFSETFROM:+0200
TZOFFSETTO:+0100
TZNAME:CET
DTSTART:20251026T010000
END:STANDARD
BEGIN:DAYLIGHT
TZOFFSETFROM:+0100
TZOFFSETTO:+0200
TZNAME:CEST
DTSTART:20260329T010000
END:DAYLIGHT
BEGIN:STANDARD
TZOFFSETFROM:+0200
TZOFFSETTO:+0100
TZNAME:CET
DTSTART:20261025T010000
END:STANDARD
END:VTIMEZONE
BEGIN:VEVENT
DTSTART;TZID=Europe/Paris:20250422T190000
DTEND;TZID=Europe/Paris:20250422T233000
DTSTAMP:20260422T014100
CREATED:20250415T081228Z
LAST-MODIFIED:20250415T081745Z
UID:251499-1745348400-1745364600@vitrinesvenelles.org
SUMMARY:APERO REZO RESTAURANT LES 13 SAVEURS
DESCRIPTION:Pour venir échanger en toute convivialité\, rendez-vous le mardi 22 Avril à partir de 19h au restaurant Les 13 Saveurs. \n4ème édition :\nIntervenant : Pierre Galizzi – Essentiel Compta\nSujet : Réforme TVA 2025\, ce qu’il faut savoir\, décryptage et impact selon mon activité. \nEntrepreneurs\, commerçants\, indépendants… Informez vous autour d’un apéritif proposé par Matthieu notre hôte\, sur un sujet clé de 2025 : la réforme de la TVA. \nNotre expert comptable interviendra pour vous décrypter les grands changements à venir et répondre à toutes vos questions. Une belle occasion d’anticiper\, le tout dans une ambiance décontractée. \nAttention\, l’inscription est obligatoire\, réservez dès maintenant !
URL:https://vitrinesvenelles.org/event/apero-rezo-restaurant-les-13-saveurs/
LOCATION:Les 13 saveurs
CATEGORIES:Apéro rezo
ATTACH;FMTTYPE=image/jpeg:https://vitrinesvenelles.org/wp-content/uploads/2025/04/content.jpg
END:VEVENT
END:VCALENDAR